BEGIN:VCALENDAR
VERSION:2.0
PRODID:-//ChamberMaster//Event Calendar 2.0//EN
METHOD:PUBLISH
X-PUBLISHED-TTL:P1H
REFRESH-INTERVAL:P1H
CALSCALE:GREGORIAN
BEGIN:VTIMEZONE
TZID:America/Chicago
BEGIN:DAYLIGHT
RRULE:FREQ=YEARLY;BYMONTH=3;BYDAY=2SU
DTSTART:20070101T000000
TZOFFSETFROM:-0600
TZOFFSETTO:-0500
TZNAME:Central Daylight Time
END:DAYLIGHT
BEGIN:STANDARD
RRULE:FREQ=YEARLY;BYMONTH=11;BYDAY=1SU
DTSTART:20070101T000000
TZOFFSETFROM:-0500
TZOFFSETTO:-0600
TZNAME:Central Standard Time
END:STANDARD
END:VTIMEZONE
BEGIN:VEVENT
DTSTART;TZID=America/Chicago:20260417T180000
DTEND;TZID=America/Chicago:20260417T230000
X-MICROSOFT-CDO-ALLDAYEVENT:FALSE
SUMMARY:Yellow Rose Boot Scoot
DESCRIPTION:The Yellow Rose Boot Scoot is an annual fundraising event that combines nostalgic charm with a vital purpose: funding research to combat inflammatory breast cancer. This family-friendly gathering invites people of all backgrounds to unite in celebration and determination\, blending cherished traditions with a modern mission to advance medical breakthroughs. More than just an event\, the Yellow Rose Boot Scoot embodies hope and collective action\, driving us closer to a future free of inflammatory breast cancer.
X-ALT-DESC;FMTTYPE=text/html:<!DOCTYPE html><html><head><title></title></head><body aria-disabled="false"><p>The Yellow Rose Boot Scoot is an annual fundraising event that combines nostalgic charm with a vital purpose: funding research to combat inflammatory breast cancer. This family-friendly gathering invites people of all backgrounds to unite in celebration and determination\, blending cherished traditions with a modern mission to advance medical breakthroughs. More than just an event\, the Yellow Rose Boot Scoot embodies hope and collective action\, driving us closer to a future free of inflammatory breast cancer.</p></body></html>
LOCATION:811 S. Loop 497 Kenney TX 77452
UID:e.3947.1446322
SEQUENCE:3
DTSTAMP:20260420T083634Z
URL:https://business.sealychamber.com/chamberevents/Details/yellow-rose-boot-scoot-1713055?sourceTypeId=Hub
END:VEVENT
END:VCALENDAR
